BEGIN:VCALENDAR
VERSION:2.0
PRODID:-//Rotary Club Treviso - Rotary Distretto 2060 - ECPv6.15.17//NONSGML v1.0//EN
CALSCALE:GREGORIAN
METHOD:PUBLISH
X-ORIGINAL-URL:https://treviso.rotary2060.club
X-WR-CALDESC:Eventi per Rotary Club Treviso - Rotary Distretto 2060
REFRESH-INTERVAL;VALUE=DURATION:PT1H
X-Robots-Tag:noindex
X-PUBLISHED-TTL:PT1H
BEGIN:VTIMEZONE
TZID:Europe/Rome
BEGIN:DAYLIGHT
TZOFFSETFROM:+0100
TZOFFSETTO:+0200
TZNAME:CEST
DTSTART:20250330T010000
END:DAYLIGHT
BEGIN:STANDARD
TZOFFSETFROM:+0200
TZOFFSETTO:+0100
TZNAME:CET
DTSTART:20251026T010000
END:STANDARD
BEGIN:DAYLIGHT
TZOFFSETFROM:+0100
TZOFFSETTO:+0200
TZNAME:CEST
DTSTART:20260329T010000
END:DAYLIGHT
BEGIN:STANDARD
TZOFFSETFROM:+0200
TZOFFSETTO:+0100
TZNAME:CET
DTSTART:20261025T010000
END:STANDARD
BEGIN:DAYLIGHT
TZOFFSETFROM:+0100
TZOFFSETTO:+0200
TZNAME:CEST
DTSTART:20270328T010000
END:DAYLIGHT
BEGIN:STANDARD
TZOFFSETFROM:+0200
TZOFFSETTO:+0100
TZNAME:CET
DTSTART:20271031T010000
END:STANDARD
END:VTIMEZONE
BEGIN:VEVENT
DTSTART;TZID=Europe/Rome:20260220T160000
DTEND;TZID=Europe/Rome:20260220T190000
DTSTAMP:20260421T175442
CREATED:20260212T102139Z
LAST-MODIFIED:20260213T150436Z
UID:1791-1771603200-1771614000@treviso.rotary2060.club
SUMMARY:Transizione Green: Verso una road map sostenibile
DESCRIPTION:Il convegno “Transizione green – verso una roadmap sostenibile” ideato dal nostro Club\, in collaborazione con l’Ordine degli Ingegneri di Treviso e con il Patto Europeo per il Clima\, con il patrocinio della Città di Treviso\, vuole parlare ai cittadini e offrire una visione chiara e operativa delle trasformazioni in atto\, mettendo in dialogo istituzioni\, mondo professionale\, imprese e ricerca. Il focus della giornata sarà pragmatico e orientato alle soluzioni\, con un incontro al mattino rivolto alle scuole e un pomeriggio aperto alla cittadinanza. Nello spirito di servizio del Patto e dei service del Rotary\, siamo impegnati a offrire un contributo professionale e competente\, volto anche a depoliticizzare temi urgenti che sono al contempo industriali\, economici\, sociali\, di competitività e di programmazione territoriale\, a sostegno delle amministrazioni pubbliche.  Il programma prevede interventi di alto profilo da parte di esperti nazionali ed europei: rappresentanti del European Climate Pact\, climatologi\, ricercatori del CNR\, docenti universitari\, professionisti e imprese innovative affronteranno temi che spaziano dal cambiamento climatico e le sue implicazioni geopolitiche\, alla pianificazione urbana per la resilienza\, dalla mobilità elettrica ai nuovi modelli energetici e di business\, fino all’integrazione delle Nature-Based Solutions nei processi di rigenerazione urbana.
URL:https://treviso.rotary2060.club/event/transizione-green-verso-una-road-map-sostenibile/
LOCATION:Auditorium Musei Civici Santa Caterina
CATEGORIES:Convegni,Incontri
END:VEVENT
END:VCALENDAR