BEGIN:VCALENDAR
VERSION:2.0
PRODID:-//Rotary Club Treviso - Rotary Distretto 2060 - ECPv6.15.17//NONSGML v1.0//EN
CALSCALE:GREGORIAN
METHOD:PUBLISH
X-WR-CALNAME:Rotary Club Treviso - Rotary Distretto 2060
X-ORIGINAL-URL:https://treviso.rotary2060.club
X-WR-CALDESC:Eventi per Rotary Club Treviso - Rotary Distretto 2060
REFRESH-INTERVAL;VALUE=DURATION:PT1H
X-Robots-Tag:noindex
X-PUBLISHED-TTL:PT1H
BEGIN:VTIMEZONE
TZID:Europe/Rome
BEGIN:DAYLIGHT
TZOFFSETFROM:+0100
TZOFFSETTO:+0200
TZNAME:CEST
DTSTART:20250330T010000
END:DAYLIGHT
BEGIN:STANDARD
TZOFFSETFROM:+0200
TZOFFSETTO:+0100
TZNAME:CET
DTSTART:20251026T010000
END:STANDARD
BEGIN:DAYLIGHT
TZOFFSETFROM:+0100
TZOFFSETTO:+0200
TZNAME:CEST
DTSTART:20260329T010000
END:DAYLIGHT
BEGIN:STANDARD
TZOFFSETFROM:+0200
TZOFFSETTO:+0100
TZNAME:CET
DTSTART:20261025T010000
END:STANDARD
BEGIN:DAYLIGHT
TZOFFSETFROM:+0100
TZOFFSETTO:+0200
TZNAME:CEST
DTSTART:20270328T010000
END:DAYLIGHT
BEGIN:STANDARD
TZOFFSETFROM:+0200
TZOFFSETTO:+0100
TZNAME:CET
DTSTART:20271031T010000
END:STANDARD
END:VTIMEZONE
BEGIN:VEVENT
DTSTART;TZID=Europe/Rome:20260421T200000
DTEND;TZID=Europe/Rome:20260421T223000
DTSTAMP:20260421T175729
CREATED:20260415T150140Z
LAST-MODIFIED:20260415T150140Z
UID:1990-1776801600-1776810600@treviso.rotary2060.club
SUMMARY:"La pianta della gioia: benefici e drammatici effetti dell'oppio"
DESCRIPTION:
URL:https://treviso.rotary2060.club/event/la-pianta-della-gioia-benefici-e-drammatici-effetti-delloppio/
LOCATION:Circolo Unificato Esercito\, Via Reggimento Italia Libera\, 5\, Treviso\, Italy
CATEGORIES:Incontri
END:VEVENT
END:VCALENDAR